Package: CHETAH Version: 1.26.0 Command: rm -rf CHETAH.buildbin-libdir && mkdir CHETAH.buildbin-libdir && /Users/biocbuild/BBS/utils/build-universal.sh CHETAH_1.26.0.tar.gz /Library/Frameworks/R.framework/Resources/bin/R CHETAH.buildbin-libdir StartedAt: 2025-11-10 23:14:24 -0500 (Mon, 10 Nov 2025) EndedAt: 2025-11-10 23:14:36 -0500 (Mon, 10 Nov 2025) EllapsedTime: 12.2 seconds RetCode: 0 Status: OK PackageFile: CHETAH_1.26.0.tgz PackageFileSize: 3.556 MiB