Package: CGHregions Version: 1.68.0 Command: /home/biocbuild/bbs-3.22-bioc/R/bin/R CMD INSTALL CGHregions StartedAt: 2025-11-11 15:19:00 -0500 (Tue, 11 Nov 2025) EndedAt: 2025-11-11 15:19:04 -0500 (Tue, 11 Nov 2025) EllapsedTime: 4.2 seconds RetCode: 0 Status: OK