Package: CGHregions Version: 1.68.0 Command: /home/biocbuild/bbs-3.22-bioc/R/bin/R CMD build --keep-empty-dirs --no-resave-data --md5 CGHregions StartedAt: 2025-11-11 16:51:30 -0500 (Tue, 11 Nov 2025) EndedAt: 2025-11-11 16:51:40 -0500 (Tue, 11 Nov 2025) EllapsedTime: 10.0 seconds RetCode: 0 Status: OK PackageFile: CGHregions_1.68.0.tar.gz PackageFileSize: 213.7 KiB