Package: CGHregions Version: 1.68.0 Command: /Library/Frameworks/R.framework/Resources/bin/R CMD INSTALL CGHregions StartedAt: 2025-10-31 15:24:53 -0400 (Fri, 31 Oct 2025) EndedAt: 2025-10-31 15:25:02 -0400 (Fri, 31 Oct 2025) EllapsedTime: 8.5 seconds RetCode: 0 Status: OK