Package: CGHregions Version: 1.68.0 Command: /Library/Frameworks/R.framework/Resources/bin/R CMD build --keep-empty-dirs --no-resave-data CGHregions StartedAt: 2025-10-31 16:30:25 -0400 (Fri, 31 Oct 2025) EndedAt: 2025-10-31 16:30:41 -0400 (Fri, 31 Oct 2025) EllapsedTime: 16.0 seconds RetCode: 0 Status: OK PackageFile: CGHregions_1.68.0.tar.gz PackageFileSize: 213.5 KiB