Package: CGHregions Version: 1.66.0 Command: /home/biocbuild/R/R/bin/R CMD INSTALL CGHregions StartedAt: 2025-10-09 20:26:42 -0000 (Thu, 09 Oct 2025) EndedAt: 2025-10-09 20:26:50 -0000 (Thu, 09 Oct 2025) EllapsedTime: 7.3 seconds RetCode: 0 Status: OK