Package: CGHregions Version: 1.66.0 Command: /home/biocbuild/R/R/bin/R CMD build --keep-empty-dirs --no-resave-data CGHregions StartedAt: 2025-10-09 23:31:47 -0000 (Thu, 09 Oct 2025) EndedAt: 2025-10-09 23:31:59 -0000 (Thu, 09 Oct 2025) EllapsedTime: 12.0 seconds RetCode: 0 Status: OK PackageFile: CGHregions_1.66.0.tar.gz PackageFileSize: 207.2 KiB