Package: CGHnormaliter Version: 1.64.0 Command: /home/biocbuild/R/R/bin/R CMD INSTALL CGHnormaliter StartedAt: 2025-11-13 21:20:49 -0000 (Thu, 13 Nov 2025) EndedAt: 2025-11-13 21:20:55 -0000 (Thu, 13 Nov 2025) EllapsedTime: 6.1 seconds RetCode: 0 Status: OK