Package: CGHnormaliter Version: 1.64.0 Command: /home/biocbuild/R/R/bin/R CMD build --keep-empty-dirs --no-resave-data CGHnormaliter StartedAt: 2025-11-14 00:28:10 -0000 (Fri, 14 Nov 2025) EndedAt: 2025-11-14 00:29:05 -0000 (Fri, 14 Nov 2025) EllapsedTime: 55.0 seconds RetCode: 0 Status: OK PackageFile: CGHnormaliter_1.64.0.tar.gz PackageFileSize: 1.239 MiB