Package: CGHnormaliter Version: 1.64.0 Command: /home/biocbuild/bbs-3.22-bioc/R/bin/R CMD build --keep-empty-dirs --no-resave-data --md5 CGHnormaliter StartedAt: 2025-11-11 16:51:17 -0500 (Tue, 11 Nov 2025) EndedAt: 2025-11-11 16:52:08 -0500 (Tue, 11 Nov 2025) EllapsedTime: 51.0 seconds RetCode: 0 Status: OK PackageFile: CGHnormaliter_1.64.0.tar.gz PackageFileSize: 1.245 MiB