Package: CGHnormaliter Version: 1.62.0 Command: /home/biocbuild/bbs-3.21-bioc/R/bin/R CMD INSTALL CGHnormaliter StartedAt: 2025-10-12 15:14:23 -0400 (Sun, 12 Oct 2025) EndedAt: 2025-10-12 15:14:28 -0400 (Sun, 12 Oct 2025) EllapsedTime: 5.3 seconds RetCode: 0 Status: OK