Package: CGHnormaliter Version: 1.62.0 Command: /Library/Frameworks/R.framework/Resources/bin/R CMD INSTALL CGHnormaliter StartedAt: 2025-10-09 15:59:03 -0400 (Thu, 09 Oct 2025) EndedAt: 2025-10-09 15:59:09 -0400 (Thu, 09 Oct 2025) EllapsedTime: 5.7 seconds RetCode: 0 Status: OK