Package: CGHcall Version: 2.72.0 Command: /home/biocbuild/bbs-3.22-bioc/R/bin/R CMD build --keep-empty-dirs --no-resave-data --md5 CGHcall StartedAt: 2025-11-11 16:51:10 -0500 (Tue, 11 Nov 2025) EndedAt: 2025-11-11 16:51:30 -0500 (Tue, 11 Nov 2025) EllapsedTime: 20.0 seconds RetCode: 0 Status: OK PackageFile: CGHcall_2.72.0.tar.gz PackageFileSize: 452.1 KiB