Package: CGHcall Version: 2.70.0 Command: /home/biocbuild/bbs-3.21-bioc/R/bin/R CMD INSTALL CGHcall StartedAt: 2025-10-15 15:13:53 -0400 (Wed, 15 Oct 2025) EndedAt: 2025-10-15 15:14:00 -0400 (Wed, 15 Oct 2025) EllapsedTime: 6.9 seconds RetCode: 0 Status: OK