Package: CGHcall Version: 2.70.0 Command: /home/biocbuild/R/R/bin/R CMD build --keep-empty-dirs --no-resave-data CGHcall StartedAt: 2025-10-02 23:35:02 -0000 (Thu, 02 Oct 2025) EndedAt: 2025-10-02 23:35:29 -0000 (Thu, 02 Oct 2025) EllapsedTime: 27.0 seconds RetCode: 0 Status: OK PackageFile: CGHcall_2.70.0.tar.gz PackageFileSize: 445.2 KiB