Package: CGHbase Version: 1.70.0 Command: /home/biocbuild/R/R/bin/R CMD build --keep-empty-dirs --no-resave-data CGHbase StartedAt: 2025-11-14 00:27:54 -0000 (Fri, 14 Nov 2025) EndedAt: 2025-11-14 00:27:56 -0000 (Fri, 14 Nov 2025) EllapsedTime: 2.0 seconds RetCode: 0 Status: OK PackageFile: CGHbase_1.70.0.tar.gz PackageFileSize: 848 KiB