Package: CGHbase Version: 1.70.0 Command: /home/biocbuild/bbs-3.22-bioc/R/bin/R CMD INSTALL CGHbase StartedAt: 2025-11-11 15:18:41 -0500 (Tue, 11 Nov 2025) EndedAt: 2025-11-11 15:18:46 -0500 (Tue, 11 Nov 2025) EllapsedTime: 5.2 seconds RetCode: 0 Status: OK