Package: CGHbase Version: 1.70.0 Command: /home/biocbuild/bbs-3.22-bioc/R/bin/R CMD check --install=check:CGHbase.install-out.txt --library=/home/biocbuild/bbs-3.22-bioc/R/site-library --timings CGHbase_1.70.0.tar.gz StartedAt: 2025-11-11 22:05:44 -0500 (Tue, 11 Nov 2025) EndedAt: 2025-11-11 22:06:18 -0500 (Tue, 11 Nov 2025) EllapsedTime: 34.0 seconds RetCode: 0 Status: OK CheckDir: CGHbase.Rcheck Warnings: 0