Package: CGHbase Version: 1.70.0 Command: /home/biocbuild/bbs-3.22-bioc/R/bin/R CMD build --keep-empty-dirs --no-resave-data --md5 CGHbase StartedAt: 2025-11-11 16:51:09 -0500 (Tue, 11 Nov 2025) EndedAt: 2025-11-11 16:51:10 -0500 (Tue, 11 Nov 2025) EllapsedTime: 1.0 seconds RetCode: 0 Status: OK PackageFile: CGHbase_1.70.0.tar.gz PackageFileSize: 849 KiB