Package: CGHbase Version: 1.68.0 Command: /Library/Frameworks/R.framework/Resources/bin/R CMD INSTALL CGHbase StartedAt: 2025-10-13 15:25:36 -0400 (Mon, 13 Oct 2025) EndedAt: 2025-10-13 15:25:50 -0400 (Mon, 13 Oct 2025) EllapsedTime: 14.0 seconds RetCode: 0 Status: OK