Package: CGHbase Version: 1.68.0 Command: rm -rf CGHbase.buildbin-libdir && mkdir CGHbase.buildbin-libdir && /Users/biocbuild/BBS/utils/build-universal.sh CGHbase_1.68.0.tar.gz /Library/Frameworks/R.framework/Resources/bin/R CGHbase.buildbin-libdir StartedAt: 2025-10-14 13:00:34 -0400 (Tue, 14 Oct 2025) EndedAt: 2025-10-14 13:00:55 -0400 (Tue, 14 Oct 2025) EllapsedTime: 20.3 seconds RetCode: 0 Status: OK PackageFile: CGHbase_1.68.0.tgz PackageFileSize: 1.061 MiB