Back to Build/check report for BioC 3.22:   simplified   long
AB[C]DEFGHIJKLMNOPQRSTUVWXYZ

This page was generated on 2025-11-13 11:55 -0500 (Thu, 13 Nov 2025).

HostnameOSArch (*)R versionInstalled pkgs
taishanLinux (openEuler 24.03 LTS)aarch644.5.0 (2025-04-11) -- "How About a Twenty-Six" 4668
Click on any hostname to see more info about the system (e.g. compilers)      (*) as reported by 'uname -p', except on Windows and Mac OS X

All results for package CGHbase


To the developers/maintainers of the CGHbase package:
- Allow up to 24 hours (and sometimes 48 hours) for your latest push to git@git.bioconductor.org:packages/CGHbase.git to reflect on this report. See Troubleshooting Build Report for more information.
- Use the following Renviron settings to reproduce errors and warnings.
- If 'R CMD check' started to fail recently on the Linux builder(s) over a missing dependency, add the missing dependency to 'Suggests:' in your DESCRIPTION file. See Renviron.bioc for more information.

raw results

Package 331/2361HostnameOS / ArchINSTALLBUILDCHECKBUILD BIN
CGHbase 1.70.0  (landing page)
Mark van de Wiel
Snapshot Date: 2025-11-12 13:45 -0500 (Wed, 12 Nov 2025)
git_url: https://git.bioconductor.org/packages/CGHbase
git_branch: RELEASE_3_22
git_last_commit: 7351416
git_last_commit_date: 2025-10-29 10:00:38 -0500 (Wed, 29 Oct 2025)
taishanLinux (openEuler 24.03 LTS) / aarch64  OK    OK    OK  



Results for Bioconductor software packages that depend directly on package CGHbase

QUICK STATSOS / ArchINSTALLBUILDCHECKBUILD BIN
taishanLinux (openEuler 24.03 LTS) / aarch64
005
005
0014
Package 1/5HostnameOS / ArchINSTALLBUILDCHECKBUILD BIN
CGHcall 2.72.0  (landing page)
Mark van de Wiel
git_last_commit: 08e37a0
git_last_commit_date: 2025-10-29 09:59:47 -0500
taishanLinux (openEuler 24.03 LTS) / aarch64  OK    OK    WARNINGS  
Package 2/5HostnameOS / ArchINSTALLBUILDCHECKBUILD BIN
CGHnormaliter 1.64.0  (landing page)
Bart P.P. van Houte
git_last_commit: 9bc2534
git_last_commit_date: 2025-10-29 10:03:43 -0500
taishanLinux (openEuler 24.03 LTS) / aarch64  OK    OK    OK  
Package 3/5HostnameOS / ArchINSTALLBUILDCHECKBUILD BIN
CGHregions 1.68.0  (landing page)
Sjoerd Vosse
git_last_commit: 684ec3c
git_last_commit_date: 2025-10-29 10:00:42 -0500
taishanLinux (openEuler 24.03 LTS) / aarch64  OK    OK    OK  
Package 4/5HostnameOS / ArchINSTALLBUILDCHECKBUILD BIN
GeneBreak 1.40.0  (landing page)
Evert van den Broek
git_last_commit: ba80da7
git_last_commit_date: 2025-10-29 10:28:19 -0500
taishanLinux (openEuler 24.03 LTS) / aarch64  OK    OK    OK  
Package 5/5HostnameOS / ArchINSTALLBUILDCHECKBUILD BIN
QDNAseq 1.46.0  (landing page)
Daoud Sie
git_last_commit: 00b06a1
git_last_commit_date: 2025-10-29 10:18:34 -0500
taishanLinux (openEuler 24.03 LTS) / aarch64  OK    OK    OK