Package: CGEN Version: 3.46.0 Command: /home/biocbuild/bbs-3.22-bioc/R/bin/R CMD check --install=check:CGEN.install-out.txt --library=/home/biocbuild/bbs-3.22-bioc/R/site-library --timings CGEN_3.46.0.tar.gz StartedAt: 2025-11-20 22:46:04 -0500 (Thu, 20 Nov 2025) EndedAt: 2025-11-20 22:48:49 -0500 (Thu, 20 Nov 2025) EllapsedTime: 165.2 seconds RetCode: 0 Status: WARNINGS CheckDir: CGEN.Rcheck Warnings: 1