Package: CGEN Version: 3.46.0 Command: /Library/Frameworks/R.framework/Resources/bin/R CMD INSTALL CGEN StartedAt: 2025-11-03 15:12:02 -0500 (Mon, 03 Nov 2025) EndedAt: 2025-11-03 15:12:40 -0500 (Mon, 03 Nov 2025) EllapsedTime: 38.0 seconds RetCode: 0 Status: OK