Package: CGEN Version: 3.46.0 Command: /Library/Frameworks/R.framework/Resources/bin/R CMD build --keep-empty-dirs --no-resave-data CGEN StartedAt: 2025-11-03 16:25:38 -0500 (Mon, 03 Nov 2025) EndedAt: 2025-11-03 16:26:38 -0500 (Mon, 03 Nov 2025) EllapsedTime: 59.4 seconds RetCode: 0 Status: OK PackageFile: CGEN_3.46.0.tar.gz PackageFileSize: 980.8 KiB