Package: CGEN Version: 3.46.0 Command: rm -rf CGEN.buildbin-libdir && mkdir CGEN.buildbin-libdir && /Users/biocbuild/BBS/utils/build-universal.sh CGEN_3.46.0.tar.gz /Library/Frameworks/R.framework/Resources/bin/R CGEN.buildbin-libdir StartedAt: 2025-11-04 01:31:59 -0500 (Tue, 04 Nov 2025) EndedAt: 2025-11-04 01:32:35 -0500 (Tue, 04 Nov 2025) EllapsedTime: 35.8 seconds RetCode: 0 Status: OK PackageFile: CGEN_3.46.0.tgz PackageFileSize: 1.93 MiB