Package: CGEN Version: 3.44.0 Command: /home/biocbuild/R/R/bin/R CMD INSTALL CGEN StartedAt: 2025-10-13 20:15:53 -0000 (Mon, 13 Oct 2025) EndedAt: 2025-10-13 20:16:45 -0000 (Mon, 13 Oct 2025) EllapsedTime: 52.1 seconds RetCode: 0 Status: OK