Package: CGEN Version: 3.44.0 Command: /home/biocbuild/R/R/bin/R CMD build --keep-empty-dirs --no-resave-data CGEN StartedAt: 2025-10-13 23:31:56 -0000 (Mon, 13 Oct 2025) EndedAt: 2025-10-13 23:33:02 -0000 (Mon, 13 Oct 2025) EllapsedTime: 66.0 seconds RetCode: 0 Status: OK PackageFile: CGEN_3.44.0.tar.gz PackageFileSize: 973.5 KiB