Package: CFAssay Version: 1.44.0 Command: /home/biocbuild/bbs-3.22-bioc/R/bin/R CMD check --install=check:CFAssay.install-out.txt --library=/home/biocbuild/bbs-3.22-bioc/R/site-library --timings CFAssay_1.44.0.tar.gz StartedAt: 2025-11-14 22:05:40 -0500 (Fri, 14 Nov 2025) EndedAt: 2025-11-14 22:06:01 -0500 (Fri, 14 Nov 2025) EllapsedTime: 21.0 seconds RetCode: 0 Status: OK CheckDir: CFAssay.Rcheck Warnings: 0