Package: CFAssay Version: 1.44.0 Command: /home/biocbuild/bbs-3.22-bioc/R/bin/R CMD build --keep-empty-dirs --no-resave-data --md5 CFAssay StartedAt: 2025-11-11 16:50:40 -0500 (Tue, 11 Nov 2025) EndedAt: 2025-11-11 16:50:47 -0500 (Tue, 11 Nov 2025) EllapsedTime: 7.0 seconds RetCode: 0 Status: OK PackageFile: CFAssay_1.44.0.tar.gz PackageFileSize: 323.9 KiB