Package: CFAssay Version: 1.44.0 Command: /Library/Frameworks/R.framework/Resources/bin/R CMD INSTALL CFAssay StartedAt: 2025-10-30 15:03:47 -0400 (Thu, 30 Oct 2025) EndedAt: 2025-10-30 15:04:01 -0400 (Thu, 30 Oct 2025) EllapsedTime: 14.3 seconds RetCode: 0 Status: OK