Package: CFAssay Version: 1.44.0 Command: /Library/Frameworks/R.framework/Resources/bin/R CMD build --keep-empty-dirs --no-resave-data CFAssay StartedAt: 2025-10-30 16:19:27 -0400 (Thu, 30 Oct 2025) EndedAt: 2025-10-30 16:19:39 -0400 (Thu, 30 Oct 2025) EllapsedTime: 12.6 seconds RetCode: 0 Status: OK PackageFile: CFAssay_1.44.0.tar.gz PackageFileSize: 322 KiB