Package: CFAssay Version: 1.42.0 Command: /home/biocbuild/R/R/bin/R CMD INSTALL CFAssay StartedAt: 2025-10-02 20:13:03 -0000 (Thu, 02 Oct 2025) EndedAt: 2025-10-02 20:13:15 -0000 (Thu, 02 Oct 2025) EllapsedTime: 12.5 seconds RetCode: 0 Status: OK