Package: CFAssay Version: 1.42.0 Command: /home/biocbuild/R/R/bin/R CMD build --keep-empty-dirs --no-resave-data CFAssay StartedAt: 2025-10-02 23:34:08 -0000 (Thu, 02 Oct 2025) EndedAt: 2025-10-02 23:34:15 -0000 (Thu, 02 Oct 2025) EllapsedTime: 7.0 seconds RetCode: 0 Status: OK PackageFile: CFAssay_1.42.0.tar.gz PackageFileSize: 312 KiB