Package: CFAssay Version: 1.42.0 Command: /Library/Frameworks/R.framework/Resources/bin/R CMD INSTALL CFAssay StartedAt: 2025-10-13 15:06:43 -0400 (Mon, 13 Oct 2025) EndedAt: 2025-10-13 15:06:46 -0400 (Mon, 13 Oct 2025) EllapsedTime: 3.3 seconds RetCode: 0 Status: OK