Package: CFAssay Version: 1.42.0 Command: rm -rf CFAssay.buildbin-libdir && mkdir CFAssay.buildbin-libdir && /Users/biocbuild/BBS/utils/build-universal.sh CFAssay_1.42.0.tar.gz /Library/Frameworks/R.framework/Resources/bin/R CFAssay.buildbin-libdir StartedAt: 2025-10-15 17:46:48 -0400 (Wed, 15 Oct 2025) EndedAt: 2025-10-15 17:46:52 -0400 (Wed, 15 Oct 2025) EllapsedTime: 4.3 seconds RetCode: 0 Status: OK PackageFile: CFAssay_1.42.0.tgz PackageFileSize: 399.9 KiB