Package: CEMiTool Version: 1.34.0 Command: /home/biocbuild/R/R/bin/R CMD INSTALL CEMiTool StartedAt: 2025-11-13 21:59:40 -0000 (Thu, 13 Nov 2025) EndedAt: 2025-11-13 22:00:18 -0000 (Thu, 13 Nov 2025) EllapsedTime: 38.3 seconds RetCode: 0 Status: OK