Package: CEMiTool Version: 1.34.0 Command: /home/biocbuild/R/R/bin/R CMD build --keep-empty-dirs --no-resave-data CEMiTool StartedAt: 2025-11-14 00:24:57 -0000 (Fri, 14 Nov 2025) EndedAt: 2025-11-14 00:27:25 -0000 (Fri, 14 Nov 2025) EllapsedTime: 148.0 seconds RetCode: 0 Status: OK PackageFile: CEMiTool_1.34.0.tar.gz PackageFileSize: 4.755 MiB