Package: CEMiTool Version: 1.34.0 Command: /home/biocbuild/bbs-3.22-bioc/R/bin/R CMD INSTALL CEMiTool StartedAt: 2025-11-11 15:51:35 -0500 (Tue, 11 Nov 2025) EndedAt: 2025-11-11 15:52:03 -0500 (Tue, 11 Nov 2025) EllapsedTime: 28.1 seconds RetCode: 0 Status: OK