Package: CEMiTool Version: 1.34.0 Command: /home/biocbuild/bbs-3.22-bioc/R/bin/R CMD check --install=check:CEMiTool.install-out.txt --library=/home/biocbuild/bbs-3.22-bioc/R/site-library --timings CEMiTool_1.34.0.tar.gz StartedAt: 2025-11-11 22:04:01 -0500 (Tue, 11 Nov 2025) EndedAt: 2025-11-11 22:09:34 -0500 (Tue, 11 Nov 2025) EllapsedTime: 332.4 seconds RetCode: 0 Status: OK CheckDir: CEMiTool.Rcheck Warnings: 0