Package: CEMiTool Version: 1.32.2 Command: /home/biocbuild/bbs-3.21-bioc/R/bin/R CMD INSTALL CEMiTool StartedAt: 2025-10-12 15:48:58 -0400 (Sun, 12 Oct 2025) EndedAt: 2025-10-12 15:49:26 -0400 (Sun, 12 Oct 2025) EllapsedTime: 27.8 seconds RetCode: 0 Status: OK