Package: CEMiTool Version: 1.32.2 Command: /home/biocbuild/bbs-3.21-bioc/R/bin/R CMD build --keep-empty-dirs --no-resave-data CEMiTool StartedAt: 2025-10-12 16:39:53 -0400 (Sun, 12 Oct 2025) EndedAt: 2025-10-12 16:41:30 -0400 (Sun, 12 Oct 2025) EllapsedTime: 97.1 seconds RetCode: 0 Status: OK PackageFile: CEMiTool_1.32.2.tar.gz PackageFileSize: 5.489 MiB