Package: CEMiTool Version: 1.32.2 Command: /Library/Frameworks/R.framework/Resources/bin/R CMD INSTALL CEMiTool StartedAt: 2025-10-13 17:50:55 -0400 (Mon, 13 Oct 2025) EndedAt: 2025-10-13 17:51:29 -0400 (Mon, 13 Oct 2025) EllapsedTime: 33.1 seconds RetCode: 0 Status: OK