Package: CEMiTool Version: 1.34.0 Maintainer: Helder Nakaya MaintainerEmail: hnakaya at usp.br git_url: https://git.bioconductor.org/packages/CEMiTool git_branch: RELEASE_3_22 git_last_commit: a56e804 git_last_commit_date: 2025-10-29 10:40:00 -0500 (Wed, 29 Oct 2025)