Package: CDI Version: 1.8.0 Command: /home/biocbuild/bbs-3.22-bioc/R/bin/R CMD INSTALL CDI StartedAt: 2025-11-11 15:23:25 -0500 (Tue, 11 Nov 2025) EndedAt: 2025-11-11 15:24:01 -0500 (Tue, 11 Nov 2025) EllapsedTime: 35.9 seconds RetCode: 0 Status: OK