Package: CDI Version: 1.6.0 Command: /home/biocbuild/R/R/bin/R CMD INSTALL CDI StartedAt: 2025-10-13 20:32:05 -0000 (Mon, 13 Oct 2025) EndedAt: 2025-10-13 20:32:58 -0000 (Mon, 13 Oct 2025) EllapsedTime: 53.4 seconds RetCode: 0 Status: OK