Package: CDI Version: 1.6.0 Command: /home/biocbuild/R/R/bin/R CMD build --keep-empty-dirs --no-resave-data CDI StartedAt: 2025-10-13 23:25:11 -0000 (Mon, 13 Oct 2025) EndedAt: 2025-10-13 23:36:46 -0000 (Mon, 13 Oct 2025) EllapsedTime: 695.2 seconds RetCode: 0 Status: OK PackageFile: CDI_1.6.0.tar.gz PackageFileSize: 2.093 MiB