Package: CDI Version: 1.8.0 Command: /Library/Frameworks/R.framework/Resources/bin/R CMD INSTALL CDI StartedAt: 2025-11-06 15:12:25 -0500 (Thu, 06 Nov 2025) EndedAt: 2025-11-06 15:12:39 -0500 (Thu, 06 Nov 2025) EllapsedTime: 14.4 seconds RetCode: 0 Status: OK