Package: CDI Version: 1.8.0 Command: /Library/Frameworks/R.framework/Resources/bin/R CMD build --keep-empty-dirs --no-resave-data CDI StartedAt: 2025-11-06 15:51:45 -0500 (Thu, 06 Nov 2025) EndedAt: 2025-11-06 15:54:36 -0500 (Thu, 06 Nov 2025) EllapsedTime: 170.8 seconds RetCode: 0 Status: OK PackageFile: CDI_1.8.0.tar.gz PackageFileSize: 2.08 MiB