Package: CDI Version: 1.8.0 Command: rm -rf CDI.buildbin-libdir && mkdir CDI.buildbin-libdir && /Users/biocbuild/BBS/utils/build-universal.sh CDI_1.8.0.tar.gz /Library/Frameworks/R.framework/Resources/bin/R CDI.buildbin-libdir StartedAt: 2025-11-06 22:58:42 -0500 (Thu, 06 Nov 2025) EndedAt: 2025-11-06 22:58:59 -0500 (Thu, 06 Nov 2025) EllapsedTime: 16.3 seconds RetCode: 0 Status: OK PackageFile: CDI_1.8.0.tgz PackageFileSize: 2.117 MiB